BEGIN:VCALENDAR
VERSION:2.0
PRODID:-//The Dock - ECPv6.15.20//NONSGML v1.0//EN
CALSCALE:GREGORIAN
METHOD:PUBLISH
X-ORIGINAL-URL:https://thedockthatrocks.com
X-WR-CALDESC:Events for The Dock
REFRESH-INTERVAL;VALUE=DURATION:PT1H
X-Robots-Tag:noindex
X-PUBLISHED-TTL:PT1H
BEGIN:VTIMEZONE
TZID:America/Chicago
BEGIN:DAYLIGHT
TZOFFSETFROM:-0600
TZOFFSETTO:-0500
TZNAME:CDT
DTSTART:20230312T080000
END:DAYLIGHT
BEGIN:STANDARD
TZOFFSETFROM:-0500
TZOFFSETTO:-0600
TZNAME:CST
DTSTART:20231105T070000
END:STANDARD
BEGIN:DAYLIGHT
TZOFFSETFROM:-0600
TZOFFSETTO:-0500
TZNAME:CDT
DTSTART:20240310T080000
END:DAYLIGHT
BEGIN:STANDARD
TZOFFSETFROM:-0500
TZOFFSETTO:-0600
TZNAME:CST
DTSTART:20241103T070000
END:STANDARD
BEGIN:DAYLIGHT
TZOFFSETFROM:-0600
TZOFFSETTO:-0500
TZNAME:CDT
DTSTART:20250309T080000
END:DAYLIGHT
BEGIN:STANDARD
TZOFFSETFROM:-0500
TZOFFSETTO:-0600
TZNAME:CST
DTSTART:20251102T070000
END:STANDARD
END:VTIMEZONE
BEGIN:VEVENT
DTSTART;TZID=America/Chicago:20241108T080000
DTEND;TZID=America/Chicago:20241108T170000
DTSTAMP:20260421T051924
CREATED:20241021T161628Z
LAST-MODIFIED:20241025T164953Z
UID:162-1731052800-1731085200@thedockthatrocks.com
SUMMARY:The Hyland Church Band
DESCRIPTION:Ray Burke returns to Quincy for the ‘For Those who Rock the Dock\, We Salute You’ event.  The performances start at 7 p.m. on Nov. 8 and Nov. 9. \n\n\n\nBands set to play over the weekend are The Hyland Church Band\, Them Smokin Crawdaddies\, and Humanity Street Unplugged\, Burke’s record with guest musicians. Forever will be reuniting to headline on Sunday\, Nov. 9.
URL:https://thedockthatrocks.com/event/the-hyland-church-band/
LOCATION:The Dock\, 1021 Bonansinga Drive\, Quincy\, 62301\, United States
CATEGORIES:Live Music
ATTACH;FMTTYPE=image/jpeg:https://thedockthatrocks.com/wp-content/uploads/2024/10/rock-the-dock-header-scaled.jpg
END:VEVENT
END:VCALENDAR